BEGIN:VCALENDAR
VERSION:2.0
PRODID:-//JIKO Ayurveda - ECPv6.15.14//NONSGML v1.0//EN
CALSCALE:GREGORIAN
METHOD:PUBLISH
X-ORIGINAL-URL:https://www.jiko.cologne
X-WR-CALDESC:Veranstaltungen für JIKO Ayurveda
REFRESH-INTERVAL;VALUE=DURATION:PT1H
X-Robots-Tag:noindex
X-PUBLISHED-TTL:PT1H
BEGIN:VTIMEZONE
TZID:Europe/Berlin
BEGIN:DAYLIGHT
TZOFFSETFROM:+0100
TZOFFSETTO:+0200
TZNAME:CEST
DTSTART:20220327T010000
END:DAYLIGHT
BEGIN:STANDARD
TZOFFSETFROM:+0200
TZOFFSETTO:+0100
TZNAME:CET
DTSTART:20221030T010000
END:STANDARD
BEGIN:DAYLIGHT
TZOFFSETFROM:+0100
TZOFFSETTO:+0200
TZNAME:CEST
DTSTART:20230326T010000
END:DAYLIGHT
BEGIN:STANDARD
TZOFFSETFROM:+0200
TZOFFSETTO:+0100
TZNAME:CET
DTSTART:20231029T010000
END:STANDARD
BEGIN:DAYLIGHT
TZOFFSETFROM:+0100
TZOFFSETTO:+0200
TZNAME:CEST
DTSTART:20240331T010000
END:DAYLIGHT
BEGIN:STANDARD
TZOFFSETFROM:+0200
TZOFFSETTO:+0100
TZNAME:CET
DTSTART:20241027T010000
END:STANDARD
END:VTIMEZONE
BEGIN:VEVENT
DTSTART;VALUE=DATE:20230603
DTEND;VALUE=DATE:20230605
DTSTAMP:20260424T214959
CREATED:20230330T100901Z
LAST-MODIFIED:20230404T103025Z
UID:10000282-1685750400-1685923199@www.jiko.cologne
SUMMARY:TANDAVA - Der Liebestanz von Shiva und Shakti
DESCRIPTION:  \nTANDAVA \nDer Liebestanz von Shiva und Shakti \nDas Tantrische Fest der grenzenlosen Freiheit im Bergischen Land \n\nTandava: Der köstlich tantrische Liebestanz von Shiva und Shakti \nDas Praktizieren von Tandava lehrt Dich genüsslich abzuwarten\, DEIN Beobachten wird aufmerksam\, Du kannst Dich dem Lauf der Dinge hingeben. \n\nKomm aus dem Funktionieren raus\, immer etwas leisten zu müssen.\nMit Tandava erreichst du ein himmlisch leichtes Bewusstsein .Tandava-wie ihn Daniel Odier\, Meister des tantrischen kashmirischen Shivaismus\, lehrt\, führt in eine tiefe Entspannung\, die Deinem Körper erlaubt sich auf subtile Weise auf die Schwingungen Deiner Umgebung einzustimmen\n\nTandava bezieht sich hier auf die subtile Bewegung der kosmischen Energie oder Shakti\, die den ganzen Körper durchdringt und die Grundlage unseres Seins bildet.Die Idee des Tandava-Tanzes im kaschmirischen Tantrismus ist es\, die subtile Bewegung der kosmischen Schwingung im Körper zu erfahren und unsere Körperseele wie ein Musikinstrument darauf einzustimmen\, um ein tiefes Verständnis des Selbst der Welt zu erlangen. \n\n\nIm kaschmirischen Tantrismus hat der Tandava eine besondere Bedeutung als eine Praktik zur Erweckung der kosmischen Energie (Shakti) und zur Vereinigung mit dem Göttlichen. Der Tandava wird als eine Form von bewegter Meditation betrachtet\, die den Praktizierenden ermöglicht\, seine spirituelle VVerbundenheit zu vertiefen und seine Bewusstseinszustände zu erweitern.\nTandava bereitet Dich perfekt auf dein Maithuna Ritual vor.\nTandava ist eine sehr tiefe Praxis für soviel… mehr!\nElisabeth Kastanakis und JIKO Tantra laden zu einem besonderen „Fest der grenzenlosen Freiheit“ ein. \nEin wunderbarer Zauber wird deinen Körper umhüllen und durchfluten… und deine Seele wird jauchzen… \nTantra verleugnet nichts sondern verwandelt alles. \nTandava\, der Kosmische Tanz\, eine erstaunliche Praxis die unser Leben für immer verändern kann. \nInhalte: \n\nTandava Intensiv Training – Die Lust an der Mystik\nDer Atem der Erleuchtung\nMeditation zur Aktivierung der Chakren\nShiva – Vollmondritual\nFeuerschalenzeremonie\n\nund\, und\,und .. \nKöstliche Vegetarisch / Ayurvedische Küche ist im Preis inbegriffen \nDatum: 3 – 4.6.2023 \nZeit:  Samstag\, 3.6. 11.30 – Open End\n         Sonntag\, 4.6. 10.00-13.30Uhr \nPreis : 169.00 Euro pro Person\n            310.00 Euro Paarpreis \nOrt : “Raum für Zeit“\n         Bövingen 111\n         53804 Much \nAnmeldung: kontakt@jiko.cologne \nÜberweisung: Paypal@jiko.cologne \nAuf Wunsch werden wir Dir die IBAN zusenden \nBeratung und Fragen: JIKO Tantra 0221/82824528 \nÜbernachtungsmöglichkeiten gibt es im nahe gelegenen\nTrans World Hotel Kranichhöhe (ca. 12 Min. Fußweg) \nund auf Matten im Gruppenraum (20€/Pers.\, bitte bei Anmeldung angeben).\nDas Hotel muss in Eigenregie gebucht werden!
URL:https://www.jiko.cologne/veranstaltung/tandava-der-liebestanz-von-shiva-und-shakti/
LOCATION:„Raum für Zeit“\, Bövingen 111\, 53804 Much
CATEGORIES:Gesundheit,Meditation,Retreat,Tantra
ORGANIZER;CN="JIKO Tantra":MAILTO:kontakt@jiko.cologne
GEO:50.9189233;7.3829842
X-APPLE-STRUCTURED-LOCATION;VALUE=URI;X-ADDRESS=„Raum für Zeit“ Bövingen 111 53804 Much;X-APPLE-RADIUS=500;X-TITLE=Bövingen 111:geo:7.3829842,50.9189233
END:VEVENT
END:VCALENDAR