BEGIN:VCALENDAR
VERSION:2.0
PRODID:-//JIKO Ayurveda - ECPv6.15.14//NONSGML v1.0//EN
CALSCALE:GREGORIAN
METHOD:PUBLISH
X-ORIGINAL-URL:https://www.jiko.cologne
X-WR-CALDESC:Veranstaltungen für JIKO Ayurveda
REFRESH-INTERVAL;VALUE=DURATION:PT1H
X-Robots-Tag:noindex
X-PUBLISHED-TTL:PT1H
BEGIN:VTIMEZONE
TZID:Europe/Berlin
BEGIN:DAYLIGHT
TZOFFSETFROM:+0100
TZOFFSETTO:+0200
TZNAME:CEST
DTSTART:20200329T010000
END:DAYLIGHT
BEGIN:STANDARD
TZOFFSETFROM:+0200
TZOFFSETTO:+0100
TZNAME:CET
DTSTART:20201025T010000
END:STANDARD
BEGIN:DAYLIGHT
TZOFFSETFROM:+0100
TZOFFSETTO:+0200
TZNAME:CEST
DTSTART:20210328T010000
END:DAYLIGHT
BEGIN:STANDARD
TZOFFSETFROM:+0200
TZOFFSETTO:+0100
TZNAME:CET
DTSTART:20211031T010000
END:STANDARD
BEGIN:DAYLIGHT
TZOFFSETFROM:+0100
TZOFFSETTO:+0200
TZNAME:CEST
DTSTART:20220327T010000
END:DAYLIGHT
BEGIN:STANDARD
TZOFFSETFROM:+0200
TZOFFSETTO:+0100
TZNAME:CET
DTSTART:20221030T010000
END:STANDARD
BEGIN:DAYLIGHT
TZOFFSETFROM:+0100
TZOFFSETTO:+0200
TZNAME:CEST
DTSTART:20230326T010000
END:DAYLIGHT
BEGIN:STANDARD
TZOFFSETFROM:+0200
TZOFFSETTO:+0100
TZNAME:CET
DTSTART:20231029T010000
END:STANDARD
BEGIN:DAYLIGHT
TZOFFSETFROM:+0100
TZOFFSETTO:+0200
TZNAME:CEST
DTSTART:20240331T010000
END:DAYLIGHT
BEGIN:STANDARD
TZOFFSETFROM:+0200
TZOFFSETTO:+0100
TZNAME:CET
DTSTART:20241027T010000
END:STANDARD
END:VTIMEZONE
BEGIN:VEVENT
DTSTART;TZID=Europe/Berlin:20231111T093000
DTEND;TZID=Europe/Berlin:20231112T180000
DTSTAMP:20260425T022021
CREATED:20231004T154139Z
LAST-MODIFIED:20231004T170122Z
UID:10000294-1699695000-1699812000@www.jiko.cologne
SUMMARY:Ausbildung „Abhyanga - Die Ayurvedische Öl Massage“­­
DESCRIPTION:Ausbildung „Abhyanga – Die Ayurvedische Öl Massage“­­\n­ \nDiese 2-tägige Massage Ausbildung der klassischen Abhyanga ist ein Einstieg für Menschen die sich in ihrer Berührungsqualität professionell und einer gesundheitlich fördernden Berührung intensiv öffnen und weiterbilden möchten. \nDie klassische Abhyanga („die große Ölung“) entspricht dem Ziel einer Harmonisierung der Körperenergien nach dem ayurvedischen Verständnis. Durch Streichungen die sich immer wieder verbindend treffen\, bewirkt diese Ayurvedische Massage einen umfassenden\, reinigenden und befreienden Effekt. Körper und Geist erreichen eine tiefe Entspannung und den Weg zur inneren Harmonie. Sie ist unterstützend in der Therapie der gängigen Symptome von Zivilisationskrankheiten wie bspw. Muskelverspannungen und Burn Out.\nDu liebst es Menschen nicht nur mit den Händen zu berühren sondern es darf sich zu einer dauerhaften Veränderung im nachspüren des Körpers deiner „Freunde“* entwickeln? (*Empfänger)\nNach dieser Ausbildung wirst Du in einer wunderbaren kompetenten Ausrichtung sein den Ablauf einer Abhyanga fließend von 60-120 min. professionell durchzuführen. \nInhalte der 2-tägigen Ausbildung: \n\nEinführung in das Ayurvedische Basiswissen\nAyurvedische Konstitution und Hautdiagnostik\nAblauf einer klassischen Abhyanga Ölkunde \nDas JIKO Ayurveda Team: Komala und Jina legt diese Fortbildung\, Masseuren\, Kosmetiker\, Physiotherapeuten sowie Körpertherapeuten der Wellness Branche und Menschen\, die sich selbst ein Geschenk machen möchten\, etwas Neues in ihr Leben einzuladen\, ans Herz.\n\nOrt: „Alte Schmiede“\nEllerstrasse 32\, 53119 Bonn\nKosten: 320\,- Euro \nVeranstalter: JIKO Ayurveda Team (Komala und Jina)\nBei Fragen dürft ihr euch gerne melden unter 0221/82824528 oder per Mail an kontakt@jiko.cologne. \nÜberweisung: paypal@jiko.cologne \nAuf Wunsch werden wir Dir die IBAN zusenden.\nAnmeldeschluss: 05.11.2023
URL:https://www.jiko.cologne/veranstaltung/ausbildung-abhyanga-die-ayurvedische-oel-massage/
LOCATION:Alte Schmiede\, Ellerstr. 32\, Bonn\, 53119\, Deutschland
CATEGORIES:Ayurveda,Gesundheit,Massage-Ausbildung
ORGANIZER;CN="JIKO Ayurveda":MAILTO:kontakt@jiko.cologne
GEO:50.7381894;7.0826262
X-APPLE-STRUCTURED-LOCATION;VALUE=URI;X-ADDRESS=Alte Schmiede Ellerstr. 32 Bonn 53119 Deutschland;X-APPLE-RADIUS=500;X-TITLE=Ellerstr. 32:geo:7.0826262,50.7381894
END:VEVENT
BEGIN:VEVENT
DTSTART;TZID=Europe/Berlin:20230319T093000
DTEND;TZID=Europe/Berlin:20230319T180000
DTSTAMP:20260425T022021
CREATED:20230214T120335Z
LAST-MODIFIED:20230214T120335Z
UID:10000279-1679218200-1679248800@www.jiko.cologne
SUMMARY:Shodana „Gesundheit durch Entschlacken und Massage“
DESCRIPTION:Shodana „Gesundheit durch Entschlacken und Massage“\n\nViele unter uns empfinden zu dieser Jahreszeit das Bedürfnis nach Entschlackung und innerer Reinigung.Um das Kapha-Ungleichgewicht aus der Winterzeit zu reduzieren ist im Frühling die perfekte Zeit dazu.\nWer möchte nicht einige Kilos verlieren\, eine strahlende Haut bekommen oder sich von seinen Verschleimungen der Nebenhöhlen und Bronchien lösen? Die fortschreitenden Tage des nahenden Frühlings sind die ideale Zeitpunkt Maßnahmen für ein gut funktionierendes Verdauungsfeuer einzusetzen und sich von angesammelten Schlacken zu befreien.\nMit stärkenden ayurvedischen Tagesritualen und leckeren reduzierten Ernährungsweise als kurz Kur für zu Hause\, hast du die Möglichkeit zum abnehmen\, sowie Dich von einem Übermaß von \,\,Ama“\, den Toxinen und Schlacken zu befreien.\nEine bewusste Ayurvedische Ernährungsumstellung zu dieser Jahreszeit wird auch Pollenallergiker leichter ins Frühjahr starten lassen.\nBeginne mit der Teilnahme an unserem „Shodana“ Tag einen leichten Weg ins Frühjahr.\nDurch die vorherige Auswertung deines Konstitutionstests erfährst Du…\n– ein Doshagerechte Morgenmahlzeit für einen leichten Tag in den Tag\n– die Auswertung deines Konstitutionstest mit Blick auf dein Pakriti\n– eine Einweisung von kurzen Entschlackungskuren für\n. Gewichtsreduktion\n. Stressreduktion\n. Hautverbesserung und\nAusstrahlung\n. Regeneration\n– Einweisung in deine Dosha gerechte Diätetik bei einem gemeinsamen Mittagessen\n– Das einsetzen von unterschiedlichsten Ölen bei einer Bauchmassage für Dich und deiner Herzensmenschen\n– Informations Handout gefüllt mit Rezepten und Infos für die weitere Umsetzung der Entschlackung\n– Zubereitung von Ghee\nShodana: Dein Detoxtag in Bonn ist heilsam für Körper und Geist und macht Freude\nDatum : 19.3.2023\nZeit : 9.30-18.00 Uhr\nOrt : „Alte Schmiede“\nEllerstrasse 32\n53119 Bonn\nPreis : 130 Euro pro Person\nAnmeldung : Kontakt@jiko.cologne\nÜberweisung: Paypal@jiko.cologne\nBei Fragen. : JIKO Ayurveda: 0221-82824528
URL:https://www.jiko.cologne/veranstaltung/shodana-gesundheit-durch-entschlacken-und-massage/
LOCATION:Alte Schmiede\, Ellerstr. 32\, Bonn\, 53119\, Deutschland
CATEGORIES:Ayurveda,Gesundheit,Massage-Workshop,Mini-Workshop,Wellness
ORGANIZER;CN="JIKO Ayurveda":MAILTO:kontakt@jiko.cologne
GEO:50.7381894;7.0826262
X-APPLE-STRUCTURED-LOCATION;VALUE=URI;X-ADDRESS=Alte Schmiede Ellerstr. 32 Bonn 53119 Deutschland;X-APPLE-RADIUS=500;X-TITLE=Ellerstr. 32:geo:7.0826262,50.7381894
END:VEVENT
BEGIN:VEVENT
DTSTART;TZID=Europe/Berlin:20230122T100000
DTEND;TZID=Europe/Berlin:20230122T190000
DTSTAMP:20260425T022021
CREATED:20221213T085404Z
LAST-MODIFIED:20221223T132937Z
UID:10000196-1674381600-1674414000@www.jiko.cologne
SUMMARY:Tantratag der Selbstliebe
DESCRIPTION:Tantratag der Selbstliebe \n„Verbindung zum Herzen“ \nEines lernten wir gründlich von klein auf kennen: \nFür Erfolg bekommen wir Liebe\, für Fehler gibt es Tadel. \nEntsprechend leicht fällt die Wertschätzung für uns selbst\, wenn unsere Projekte gelingen. Auf emotionaler Ebene wissen wir nur zu gut\, wie sehr wir abhängig von Gesellschaft und Berührung sind. \nDoch wo bleibt unsere eigene Verbindung zum Herzen dabei? \nMeistens haben wir uns geliebt und gesehen gefühlt\, wenn wir dies oder jenes erreicht haben. \nOder dass du das Glück\, die Liebe und deine Freude immer bei jemand anderem suchst. Glaube mir das findest du nur bei dir! \nJetzt beantworte mir doch einmal die Frage\, warum ist dein Selbstwertgefühl so von dem Urteil der Anderen abhängig? \nWeil wir die Energie des Lebens lieben und immer besser werden möchten. Im Tantra ist es wichtig\, sich mit sich selbst zu verbinden. Die 10 Schlüssel des tantrischen Weges zu gehen\, damit deine Selbstliebe immer mehr\, Stück für Stück\, in dich einfließt. \nDie Verbindung zu deinem Herzen\, um wieder tiefe Liebe in uns zu spüren\, lässt deine Muster sich verändern. Du führst ein Gespräch mit dir selbst und dem Inhalt deines Herzens. Dein Kopf schaltet sich ab. Du lernst dein Gefühlswelt besser und vertrauensvoll kennen. \nSelbstliebe bedeutet dass wir uns ganz annehmen\, nicht in einem „Wir selbst“ und einem dort „Rest von uns“ \nEs erwartet dich ein herzöffnender tantrischer Tag mit: \n\nMeditation\nemotionaler Heilung\nSelbstliebe Ritual\nenergetischer Ausdruck deiner künstlerischen Hand\nTeaching und\, und\, und…\n\nKomm gestärkt und kraftvoll aus diesem Tag heraus\, lass dich spüren was du dir Wert bist! \nHinweis: Dieser Tag ist nur dir gewidmet. Der Tantratag zeigt sich in viel Solopräsenz und Gruppenritualarbeit\, begleitet durch die 10 goldenen Schlüssel des weißen Tantra. \nSelbstliebe benötigen wir Alle! \nWir freuen uns auf einen liebenden Tag mit Dir und Euch. \nKomala\, Annegret und Jina \nDatum: 22.1. 2023\nZeit     : 10.00-19.00 Uhr\nOrt      : Seminar und Praxishaus\n             "Alte Schmiede“\n              Ellerstraße 32\n              53119 Bonn\nPreis   : 130\,00 Euro pro Person\n              220\,00 Euro für Paare\nLeichtes vegetarisches Mittagessen inbegriffen.\nAnmeldung:             kontakt@jiko.cologne\nAnmeldeschluss:    17.1.2023 (24.00 Uhr)\nFragen und persönliche Beratung:  Komala\nTelefon: 0221-82824528
URL:https://www.jiko.cologne/veranstaltung/tantratag-der-selbstliebe-2/
LOCATION:Alte Schmiede\, Ellerstr. 32\, Bonn\, 53119\, Deutschland
CATEGORIES:Mini-Workshop,Tantra
ORGANIZER;CN="JIKO Tantra":MAILTO:kontakt@jiko.cologne
GEO:50.7381894;7.0826262
X-APPLE-STRUCTURED-LOCATION;VALUE=URI;X-ADDRESS=Alte Schmiede Ellerstr. 32 Bonn 53119 Deutschland;X-APPLE-RADIUS=500;X-TITLE=Ellerstr. 32:geo:7.0826262,50.7381894
END:VEVENT
BEGIN:VEVENT
DTSTART;TZID=Europe/Berlin:20221120T100000
DTEND;TZID=Europe/Berlin:20221120T193000
DTSTAMP:20260425T022021
CREATED:20221019T112230Z
LAST-MODIFIED:20221019T112230Z
UID:10000275-1668938400-1668972600@www.jiko.cologne
SUMMARY:Kamasutramassage Einführungstag
DESCRIPTION:  \nKamasutramassage Einführungstag \nLass uns dem Leben einen Sinn geben. Wir kommen immer weniger zur Besinnung.\nUnd darauf bezieht sich das „Kamasutra“.\nEs vermittelt Qualität und Nähe und vor allen Dingen vermittelt es dem Leben wieder einen Sinn. In einem tantrischen Kamasutra Programm bemüht man sich bewusst darum ekstatisch mit dem Partner und durch Ihn oder Sie mit der restlichen Welt zu verschmelzen. \n„Kama“ bedeutet das Erlangen von Liebe oder sinnlicher Lust. Der Aufbau einer intimen\, liebevollen Beziehung ist ein schöner und aufregender Prozess!\n• Es geht um deine liebevolle Präsenz\, die Achtsamkeit und die Langsamkeit.\n• Komme in deine innere Führung\, komme in deine Kraft\, in dein eigenes Kamasutra\nAn diesem Tag wärmen wir uns mit einem Selbstliebe Verehrungs-Ritual auf und danach praktizieren wir Kamasutra Yoga.\nWir zeigen euch Techniken wie ihr mit einem Partner einen kleinen Massagetanz vollbringt. Und natürlich werden wir einige Liebeswerke aus dem klassischen Kamasutra mit einbringen. \nNach der Mittagspause werden wir uns in einem angeleiteten Kamasutra Massage Ritual der energievollen Verschmelzung hingeben. \nWenn du schon Erfahrungen in der klassischen Tantra Massage hast\, gibt dir dieser Tag neue Eindrücke und Techniken um mit deinem Partner dynamisch in Sinnlichkeit zu fließen.\nDieser Kamasutra Massagetag ist für Singles und Paare die eine neue Dynamik in ihrem Liebesleben erleben möchten.\nDa wir unsere Körper in bewegenden Techniken spüren werden\, solltest du keine großartigen körperlichen Einschränkungen haben. \nWir freuen uns Dich / Euch durch einen Tag des Kamasutra mit seinem unterschiedlichen Repertoire an Liebeswerken zu führen. \nJIKO Tantra: Komala und Jina \nBei Fragen: JIKO Tantra\n0221 82824528 \nDatum: 20.11.2022\nZeit: 10:00 – 19:30\nPreis: 110\,00 Euro Einzelperson\n200\,00 Euro Paarpreis\nOrt: Stimmschmiede Bonn\nEllerstr. 32 (Innenhof)\n53119 Bonn \nAnmeldung: kontakt@jiko.cologne\nÜberweisung: Auf Wunsch wird die IBAN per Email zugesendet\nGetränke\, Snacks und ein vegetarisches Mittagessen sind im Preis inbegriffen \nwww.Jiko.cologne
URL:https://www.jiko.cologne/veranstaltung/kamasutramassage-einfuehrungstag/
LOCATION:Alte Schmiede\, Ellerstr. 32\, Bonn\, 53119\, Deutschland
ORGANIZER;CN="JIKO Tantra":MAILTO:kontakt@jiko.cologne
GEO:50.7381894;7.0826262
X-APPLE-STRUCTURED-LOCATION;VALUE=URI;X-ADDRESS=Alte Schmiede Ellerstr. 32 Bonn 53119 Deutschland;X-APPLE-RADIUS=500;X-TITLE=Ellerstr. 32:geo:7.0826262,50.7381894
END:VEVENT
BEGIN:VEVENT
DTSTART;TZID=Europe/Berlin:20220925T103000
DTEND;TZID=Europe/Berlin:20220925T183000
DTSTAMP:20260425T022021
CREATED:20220819T143943Z
LAST-MODIFIED:20220819T143943Z
UID:10000221-1664101800-1664130600@www.jiko.cologne
SUMMARY:Kopf Massageausbildung
DESCRIPTION:Kopf Massageausbildung \nDiese Ausbildung richtet sich an Menschen\, die ihre Berührungsqualität verbessern und das Wissen der individuellen Kopf-/Handmassage von Grund auf erlernen möchten. Ziel ist es hierbei\, Massagetechniken zu vermitteln\, die die Teilnehmer in die Lage versetzen\, ihren Kunden in Zukunft nicht nur eine angenehme\, sondern auch eine typgerechte\, 10-30minütige Massage anbieten zu können. \nZielgruppe sind: Kosmetikerinnen\, Friseure\, Masseure\, Physiotherapeuten\, Heilpraktiker\, Mitarbeiter in Wellness- und Spa-Bereichen sowie Body Work-Interessierte. Die praxisorientierte Ausbildung findet in kleiner\, intensiver Gruppe statt. \nDas JIKO Ayurveda Team bietet in diesem Tagesseminar mit den beiden Dozenten Komala Janette Meinl und Jina Joachim Gehrke das bewusste Einschätzen der unterschiedlichen Kundentypologien sowie das Erlernen der Massagetechniken\, welche ihre Wurzeln in der Thai-Yoga Massage\, der Hawaiianischen Lomi Lomi Massage und der indischen ayurvedischen Kopfmassage haben. \nMarmapunkte\nJina Joachim Gehrke wird eine Einführung in die Marmapunkte (ähnlich den Akupressurpunkten) präsentieren. In den Marmapunkten von Gesicht\, Nacken\, Hals und Kopf zeigt sich unser Ego auf besondere Art. Diese Punkte vermitteln die Ausdrucksformen unseres Gesichts. Wir erkennen die ganze Palette unserer Emotionen wie Freude\, Angst\, Stolz usw.\, aber auch wie wir durch eine Maske unser Innerstes verstecken. Die Stimulation und Behandlung dieser Marmapunkte kann tiefsitzende Blockaden lösen. Zum Ende des Tages werden sie in der Lage sein\, untereinander harmonische Massagesitzungen auf dem Stuhl oder nach Absprache mit dem JIKO Ayurveda Team (im Vorfeld)\,auf der Liege auszutauschen und zu genießen. Begleitet wird der Tag mit ayurvedischer Küche. Zum Schluss werden Lernmaterial und ein Teilnahme-Zertifikat ausgehändigt. \nWir freuen uns mit Euch  auf einen lehrreichen Tag\nFragen im Vorfeld  beantworten Ihnen die Dozenten Komala und Jina unter der Rufnummer:0221/82824528 \n\n  \nDatum:           25.9.2022\nUhrzeit:          10.30-18.30 Uhr  \nOrt:               „Alte Schmiede“\n                      Ellerstrasse 32 \n                      53119 Bonn \nPreis:            150 Euro (im Preis ist die Mwst. enthalten)\nAnmeldeschluss: 22.9.2022 \nÜberweisung:paypal@jiko.cologne \n( Auf Wunsch wird die IBAN zugesendet)
URL:https://www.jiko.cologne/veranstaltung/kopf-massageausbildung/
LOCATION:Alte Schmiede\, Ellerstr. 32\, Bonn\, 53119\, Deutschland
CATEGORIES:Ayurveda,Massage-Ausbildung,Massage-Workshop
ORGANIZER;CN="JIKO Ayurveda":MAILTO:kontakt@jiko.cologne
GEO:50.7381894;7.0826262
X-APPLE-STRUCTURED-LOCATION;VALUE=URI;X-ADDRESS=Alte Schmiede Ellerstr. 32 Bonn 53119 Deutschland;X-APPLE-RADIUS=500;X-TITLE=Ellerstr. 32:geo:7.0826262,50.7381894
END:VEVENT
BEGIN:VEVENT
DTSTART;TZID=Europe/Berlin:20220821T103000
DTEND;TZID=Europe/Berlin:20220821T190000
DTSTAMP:20260425T022021
CREATED:20220716T100922Z
LAST-MODIFIED:20220718T091702Z
UID:10000210-1661077800-1661108400@www.jiko.cologne
SUMMARY:Padabhyanga: Ayurvedische Fußmassagen Ausbildung
DESCRIPTION:Padabhyanga\nAyurvedische Fußmassagen Ausbildung\nZiel dieser Ausbildung ist das Erlernen einer kompletten ayurvedischen Fußmassage\n(Padabhyanga) in einer kleinen Gruppe mit viel Praxis. Diverse Griffe und\nAusstreichungen an Fuß\, Wade und Knie harmonisieren beide Gehirnhälften und\nführen zu einer tiefen Entspannung. Diese Arbeit beinhaltet ein Verständnis der\nunterschiedlichen Gewebe\, der Marmapunkte\, Reflexzonen und Chakras. Empfohlen speziell bei Schlaflosigkeit\, Erschöpfung\, Gefühl der Unsicherheit und Schwierigkeiten mit praktischen Aspekten des täglichen Lebens Sie beugt Ischiasbeschwerden vor.\nDiese Ausbildung unterstützt Privatleute in ihrer gesundheitlichen Selbstfürsorge\, Körpertherapeuten gibt sie für die tägliche Arbeit ein zusätzliches Instrument einer besonderen Massagemethode an die Hand und wirkt darüber hinaus als zusätzliche Kundenbindung.Im Preis enthalten ist die Verpflegung über den ganzen Tag hinweg mit leckeren ayurvedischen Speisen.Jeder Teilnehmer erhält am Ende ein Arbeitsskript und ein Teilnehmerzertifikat.\nFragen im Vorfeld beantworten die beiden Dozenten Komala oder Jina gerne unter 0221-82824528\nWir freuen uns auf einen lehrreichen Tag mit Dir.Datum         :  21.8.2022\nUhrzeit.       :  10.30-19.00 Uhr\nPreis             :  150.00 Euro\nOrt                 :  \,\,Alte Schmiede“\n                             Ellerstrasse 32 \n                             53119 Bonn\nAnmeldung:  kontakt@jiko.cologne\nÜberweisung:paypal@jiko.cologne\n( Auf Wunsch wird die Email per Mail zugesandt)
URL:https://www.jiko.cologne/veranstaltung/padabhyanga-ayurvedische-fussmassagen-ausbildung/
LOCATION:Alte Schmiede\, Ellerstr. 32\, Bonn\, 53119\, Deutschland
CATEGORIES:Coaching,Massage-Ausbildung,Massage-Workshop
ORGANIZER;CN="JIKO Ayurveda":MAILTO:kontakt@jiko.cologne
GEO:50.7381894;7.0826262
X-APPLE-STRUCTURED-LOCATION;VALUE=URI;X-ADDRESS=Alte Schmiede Ellerstr. 32 Bonn 53119 Deutschland;X-APPLE-RADIUS=500;X-TITLE=Ellerstr. 32:geo:7.0826262,50.7381894
END:VEVENT
BEGIN:VEVENT
DTSTART;TZID=Europe/Berlin:20220410T103000
DTEND;TZID=Europe/Berlin:20220410T183000
DTSTAMP:20260425T022021
CREATED:20220222T112552Z
LAST-MODIFIED:20220222T194638Z
UID:10000270-1649586600-1649615400@www.jiko.cologne
SUMMARY:Mukhabhyanga - Ausbildung in ayurvedische Gesichtsmassage
DESCRIPTION:Mukhabhyanga\nAyurvedische Gesichtsmassage-Ausbildung\nEine ayurvedische Gesichtsmassage ist etwas Wundervolles. Diese eindringliche Massage stimuliert die tiefen Gehirnzentren\, Reflexzonen\, Energiebahnen\, sowie die Durchblutung des Gesichtes und wirkt obendrein beruhigend auf den gesamten Organismus. Verspannungen im Hals\, Schulter\, Gesichtsbereich werden gelöst und die Energiebahnen vom Kopf bis in die Zehenspitzen neu ausbalanciert.Kopfhaut und Dekolté werden mit einbezogen.\nNeben den energetischen Wirkungen hat die Mukabhyanga natürlich auch einen nicht zu übersehenden kosmetischen Effekt\, wie z. b. eine stärkere Durchblutung und Straffung der Haut sowie eine Reinigung der Poren. Auch das Innenleben der Seele kommt auch nicht zu kurz: Sorgen\, Stress und Ängste werden losgelassen\, an deren Stelle entwickeln sich neu innere Stärke\, Harmonie und Liebe!\nDie Ausbildung richtet sich an Menschen\, die sich nach innerem und äußerem Wohlsein sehnen\, die sich Zeit für sich selbst nehmen. \nJIKO Ayurveda vermittelt in diesem Ausbildungskurs die Handgriffe dieser speziellen Massagetechnik und die Stimulation der Marmapunkte (Energiepunkte)\, sowie die Anwendung heißer Kompressen und ätherischer Öle.\nZielgruppe sind: Friseure\, Kosmetiker\, Heilpraktiker und Mitarbeiter aus dem Wellness- und Spa-Bereich.\nDie anwendungsorientierte Ausbildung findet in einer kleinen\, intensiven Gruppe statt.\nZum Ende des Tages werden gegenseitig harmonische Gesichtsmassagen ausgetauscht\, du selbst wirst dann in der Lage sein\, eine wohlfühlende Behandlung zu geben bzw. von anderen Teilnehmern zu empfangen und zu genießen.\nIm Preis enthalten ist die Verpflegung über den ganzen Tag hinweg mit leckeren\, ayurvedischen Speisen.\nJeder Teilnehmer erhält am Ende ein Arbeitsskript und ein Teilnehmerzertifikat. \nFragen im Vorfeld beantworten die beiden Dozenten Komala oder Jina gerne unter: \nTel. 0221-82824528.\nWir freuen uns auf dich! \nDatum: 10. April 2022\nUhrzeit: 10:30-18:30\nPreis: 140\,00 Euro (inkl. MwSt.)\nAnmeldung: kontakt@jiko.cologne \nÜberweisung: paypal@jiko.cologne\n( Auf Wunsch wird die IBAN per Mail zugesendet) \nGetränke\, Snacks sowie ein vegetarisches Mittagessen sind im Preis inbegriffen\nwww.jiko.cologne \n  \n 
URL:https://www.jiko.cologne/veranstaltung/mukhabhyanga-ausbildung-in-ayurvedische-gesichtsmassage/
LOCATION:Alte Schmiede\, Ellerstr. 32\, Bonn\, 53119\, Deutschland
CATEGORIES:Massage-Ausbildung,Massage-Workshop
ATTACH;FMTTYPE=image/jpeg:https://www.jiko.cologne/wp-content/uploads/Mukhabhyanga.jpg
ORGANIZER;CN="JIKO Ayurveda":MAILTO:kontakt@jiko.cologne
GEO:50.7381894;7.0826262
X-APPLE-STRUCTURED-LOCATION;VALUE=URI;X-ADDRESS=Alte Schmiede Ellerstr. 32 Bonn 53119 Deutschland;X-APPLE-RADIUS=500;X-TITLE=Ellerstr. 32:geo:7.0826262,50.7381894
END:VEVENT
BEGIN:VEVENT
DTSTART;TZID=Europe/Berlin:20211107T100000
DTEND;TZID=Europe/Berlin:20211107T190000
DTSTAMP:20260425T022021
CREATED:20220130T174558Z
LAST-MODIFIED:20220130T174620Z
UID:10000266-1636279200-1636311600@www.jiko.cologne
SUMMARY:Tantratag der Selbstliebe
DESCRIPTION:Eines lernten wir gründlich von klein auf kennen…\nFür Erfolge bekommen wir Liebe – Für Fehler gibt es Tadel.\nEntsprechend leicht fällt die Wertschätzung für uns selber\, wenn unsere Projekte gelingen. So ist es in Zeiten\, in denen wir mächtig Gegenwind haben und nichts so richtig klappen mag\, mehr als schwierig! Können wir uns dann wertschätzen?\nAuf emotionaler Ebene wissen wir nur zu gut\, wie sehr wir abhängig von Gesellschaft und BERÜHRUNG sind.\nWarum ist Dein SELBSTWERTGEFÜHL so von dem Urteil der anderen abhängig?\nWir sind seit Kindheitstagen auf Resonanz angewiesen. Wir lieben diese Energie des Lobes und möchten immer nach besser werden.\nTantra bedeutet auch „sich mit sich selbst verbinden“. Am Tantratag der Selbstliebe darf Deine Liebe in einem geschützten\, heilenden Raum\, immer tiefer in Dich einfließen.\nWie wirst Du den Tantratag der Selbstliebe erfahren? Die Tantrische Arbeit der Selbstliebe hilft Dir Deine Muster\, die in Deiner eigenen Beziehungsdynamik entstanden sind\, zu verändern.\nDu wirst ein Gespräch mit Dir selbst führen. Du wirst Deinen Kopf ausschalten\, stattdessen Verbindung zu Deinem Herzen aufnehmen.\nLerne Deine Gefühle besser kennen. Lerne Vertrauen!\nSelbstliebe bedeutet\, dass wir uns ganz annehmen und nicht in einen Teil „Wir-Selbst“ und einen Part „Rest von uns“ aufspalten.\nWir füllen diesen Tag mit herzöffnender tantrischen Yogapraxis\, Meditation\, Atemübung\, Selbstmassage….und\, und… und!\nKomme gestärkt kraftvoll aus diesem Tag heraus\, lass Dich spüren\, was Du Dir wert bist!
URL:https://www.jiko.cologne/veranstaltung/tantratag-der-selbstliebe/
LOCATION:Alte Schmiede\, Ellerstr. 32\, Bonn\, 53119\, Deutschland
CATEGORIES:Meditation,Mini-Workshop,Tantra
ORGANIZER;CN="JIKO Tantra":MAILTO:kontakt@jiko.cologne
GEO:50.7381894;7.0826262
X-APPLE-STRUCTURED-LOCATION;VALUE=URI;X-ADDRESS=Alte Schmiede Ellerstr. 32 Bonn 53119 Deutschland;X-APPLE-RADIUS=500;X-TITLE=Ellerstr. 32:geo:7.0826262,50.7381894
END:VEVENT
END:VCALENDAR