BEGIN:VCALENDAR
VERSION:2.0
PRODID:-//JIKO Ayurveda - ECPv6.15.14//NONSGML v1.0//EN
CALSCALE:GREGORIAN
METHOD:PUBLISH
X-ORIGINAL-URL:https://www.jiko.cologne
X-WR-CALDESC:Veranstaltungen für JIKO Ayurveda
REFRESH-INTERVAL;VALUE=DURATION:PT1H
X-Robots-Tag:noindex
X-PUBLISHED-TTL:PT1H
BEGIN:VTIMEZONE
TZID:Europe/Berlin
BEGIN:DAYLIGHT
TZOFFSETFROM:+0100
TZOFFSETTO:+0200
TZNAME:CEST
DTSTART:20210328T010000
END:DAYLIGHT
BEGIN:STANDARD
TZOFFSETFROM:+0200
TZOFFSETTO:+0100
TZNAME:CET
DTSTART:20211031T010000
END:STANDARD
BEGIN:DAYLIGHT
TZOFFSETFROM:+0100
TZOFFSETTO:+0200
TZNAME:CEST
DTSTART:20220327T010000
END:DAYLIGHT
BEGIN:STANDARD
TZOFFSETFROM:+0200
TZOFFSETTO:+0100
TZNAME:CET
DTSTART:20221030T010000
END:STANDARD
BEGIN:DAYLIGHT
TZOFFSETFROM:+0100
TZOFFSETTO:+0200
TZNAME:CEST
DTSTART:20230326T010000
END:DAYLIGHT
BEGIN:STANDARD
TZOFFSETFROM:+0200
TZOFFSETTO:+0100
TZNAME:CET
DTSTART:20231029T010000
END:STANDARD
END:VTIMEZONE
BEGIN:VEVENT
DTSTART;TZID=Europe/Berlin:20220911T103000
DTEND;TZID=Europe/Berlin:20220911T193000
DTSTAMP:20260425T004516
CREATED:20220812T121041Z
LAST-MODIFIED:20220812T122516Z
UID:10000215-1662892200-1662924600@www.jiko.cologne
SUMMARY:JIKO Tantramassagetag
DESCRIPTION:"Nähe-Liebe-Lust und tiefes Verstehen"\n\nBerührungen sind ein Schlüssel zur Welt der Sinne\, - sind die Sprache des Körpers.\nMit Berührung beginnt ursprüngliche und tiefe Wahrnehmung.\n\nEine Tantramassage zeigt Dir den Weg durch spirituelle Dimensionen. Sie hilft Dir dabei\, ein Dir zugewandtes und Lust bejahendes Leben zu führen. - Sinnlich und vertrauensvolle Begegnungen eines Massagetages lassen Deine Grenzen schwinden. Hemmungen werden abgebaut\, um Vertrauen aufzubauen.\nDies erlaubt Dir mehr Freude in Deinem Körper. Es ist Deine Sensible Wahrnehmung\, die Dich wacher werden lässt\, und die Grundlage für ein positives Geben und ein Empfangen schafft.\n\nDie fünf Stufen der Tantra Massage begleiten Dich an diesem Tag.\nSo kannst Du wie auf einer Welle im Austausch von Energie und Berührungen surfen.\n\nDurch unsere Anleitung\, Schritt für Schritt erfährst Du so Nähe\, Liebe und Lust ein tiefes Verstehen zu Deinen Gefühlen.\n\nHierzu ein Zitat:\n„Wenn Du eine Blüte berührst\, sie also nicht mit den Augen erfasst\, wenn Du zudem mal an ihr riechst\, kannst du sie sehr intensiv wahrnehmen\, oh ja\, du kannst sie regelrecht "entdecken"\nSo wirst du an deine Empfindsamkeit geführt\, wo alles an Gefühlen\, an Berührungen gebunden ist.“  (aus: Andro\, Tantramassage 2020)\n\nWir freuen uns Dich/Euch  liebevoll durch einen intensiven Massagetag zu führen.\n\n     JIKO Tantra Team:  Komala\,Jina und Ron\n     Bei Fragen:   JIKO Tantra: 0221/82824528\n     Datum:        11.9.2022\n     Zeit:         10.30-19.30 Uhr \n     Preis:         95.00 Euro   Einzelperson \n                   170.00 Euro   Paarpreis\n     Ort:          Köln Neu Brück \n                                   (Adresse wird bei Anmeldung mitgeteilt)\n    Anmeldung:         kontakt@jiko.cologne \n    Überweisung:       paypal@jiko.cologne\n   Auf Wunsch wird die IBAN per Mail zugesandt\n\n   Getränke\, Snacks und ein vegetarisches Mittagessen sind im Preis inbegriffen\n   www.jiko.cologne
URL:https://www.jiko.cologne/veranstaltung/jiko-tantramassagetag/
LOCATION:Köln-Brück\, Köln-Neu Brück\, 51109
CATEGORIES:Massage-Workshop,Mini-Workshop,Tantra
ORGANIZER;CN="JIKO Ayurveda":MAILTO:kontakt@jiko.cologne
END:VEVENT
BEGIN:VEVENT
DTSTART;TZID=Europe/Berlin:20220829T173000
DTEND;TZID=Europe/Berlin:20220829T192000
DTSTAMP:20260425T004516
CREATED:20220729T122813Z
LAST-MODIFIED:20220729T151233Z
UID:10000214-1661794200-1661800800@www.jiko.cologne
SUMMARY:"Dynamische Meditation mit Freunden"
DESCRIPTION:„Dynamische Meditation mit Freunden“\nMeditation ist ein goldener Schlüssel\, auf den Weg in die Freiheit !\nWenn wir Verantwortung in unser Leben bringen möchten\, brauchen wir Mittel die uns lehren unsere Gedanken genau zu beobachten\, mit dem Bewusstsein ganz und gar im Hier und Jetzt zu sein.\nDesto mehr ist es wichtig\, daß wir beobachten lernen und nach und nach erkennen\, wie wir uns Leid\, Einschränkungen\, Krankheit und andere Schwierigkeiten immer wieder selbst erschaffen. Und das ist gar nicht so leicht wieder herauszukommen.\nDies liegt an den tiefen Programmierungen unseres Bio Computers. Um so wichtiger ist es uns aus den gespeicherten Gefühlen zu befreien.\nMeditation bedeutet nicht identifiziert zu sein\, es bedeutet das Du „Bewusstsein“ bist das Du „Aufmerksamkeit“ bist . Das Du „Zeuge“ bist! \nWir praktizieren die „Dynamische Meditation“ von Osho\, damit kannst du Gefühle aus Deinem Bio Computer entfernen….\nDie Dynamische Meditation mit Freunden mit JIKO Tantra zeigt dir …\nGehe aus deinem Alltag in den Klang und verwandle deinen Körper\, Deinen Atem\, Deine Stimme\, Deine Bewegung\, vom Chaos zum Tanz \nDatum:         29.8.2022\nAnkommen: 17:30 Uhr\nEnde:           18:00 Uhr\nOrt:               Köln Neu Brück \nAnmeldung.: kontakt@jiko.cologne\nPreis : Spende \nAchte auf leichte Bewegungskleidung und vielleicht ein Wechselshirt. \n\nDynamische Meditation mit Freunden – auf dem Weg zu deiner wahren Natur
URL:https://www.jiko.cologne/veranstaltung/dynamische-meditation-mit-freunden-2/
LOCATION:Köln-Brück\, Köln-Neu Brück\, 51109
CATEGORIES:Meditation,Soziale Meditation
ORGANIZER;CN="JIKO Ayurveda":MAILTO:kontakt@jiko.cologne
END:VEVENT
BEGIN:VEVENT
DTSTART;TZID=Europe/Berlin:20220725T173000
DTEND;TZID=Europe/Berlin:20220725T192000
DTSTAMP:20260425T004516
CREATED:20220708T130720Z
LAST-MODIFIED:20220718T100845Z
UID:10000208-1658770200-1658776800@www.jiko.cologne
SUMMARY:Dynamische Meditation mit Freunden
DESCRIPTION:„Dynamische Meditation mit Freunden“ \nMeditation ist ein goldener Schlüssel\, auf den Weg in die Freiheit! \nWenn wir Verantwortung in unser Leben bringen möchten\, brauchen wir Mittel die uns lehren unsere Gedanken genau zu beobachten\, mit dem Bewusstsein ganz und gar im Hier und Jetzt zu sein.\nDesto mehr ist es wichtig\, daß wir beobachten lernen und nach und nach erkennen\, wie wir uns Leid\, Einschränkungen\, Krankheit und andere Schwierigkeiten immer wieder selbst erschaffen.Und das ist gar nicht so leicht wieder herauszukommen. \nDies liegt an den tiefen Programmierungen unseres Bio Computers.Um so wichtiger ist es uns aus den gespeicherten Gefühlen zu befreien.\nMeditation bedeutet nicht identifiziert zu sein\, es bedeutet das Du \,\, Bewusstsein“ bist das Du \,\,Aufmerksamkeit“ bist\, das Du \,\,Zeuge“ bist!\nWir praktizieren die \,\,Dynamische Meditation“von Osho\, damit kannst du Gefühle aus Deinem Bio Computer entfernen….\nDie Dynamische Meditation für Freunde mit JIKO Tantra zeigt dir …\nGehe aus deinem Alltag in den Klang und verwandle deinen Körper Deinen Atem Deine Stimme Deine Bewegung vom Chaos zum Tanz\nDatum : 25.7.2022\nAnkommen: 17.30 Uhr \nBeginn : 18.00 Uhr \nEnde: 19:20\nOrt : Köln Neu Brück\nAnmeldung.: kontakt@jiko.cologne \nPreis : Spende\nAchte auf leichte Bewegungskleidung
URL:https://www.jiko.cologne/veranstaltung/dynamische-meditation-mit-freunden/
LOCATION:Köln-Brück\, Köln-Neu Brück\, 51109
CATEGORIES:Coaching,Meditation,Mini-Workshop,Soziale Meditation,Tantra
END:VEVENT
END:VCALENDAR