BEGIN:VCALENDAR
VERSION:2.0
PRODID:-//JIKO Ayurveda - ECPv6.15.14//NONSGML v1.0//EN
CALSCALE:GREGORIAN
METHOD:PUBLISH
X-ORIGINAL-URL:https://www.jiko.cologne
X-WR-CALDESC:Veranstaltungen für JIKO Ayurveda
REFRESH-INTERVAL;VALUE=DURATION:PT1H
X-Robots-Tag:noindex
X-PUBLISHED-TTL:PT1H
BEGIN:VTIMEZONE
TZID:Europe/Berlin
BEGIN:DAYLIGHT
TZOFFSETFROM:+0100
TZOFFSETTO:+0200
TZNAME:CEST
DTSTART:20200329T010000
END:DAYLIGHT
BEGIN:STANDARD
TZOFFSETFROM:+0200
TZOFFSETTO:+0100
TZNAME:CET
DTSTART:20201025T010000
END:STANDARD
BEGIN:DAYLIGHT
TZOFFSETFROM:+0100
TZOFFSETTO:+0200
TZNAME:CEST
DTSTART:20210328T010000
END:DAYLIGHT
BEGIN:STANDARD
TZOFFSETFROM:+0200
TZOFFSETTO:+0100
TZNAME:CET
DTSTART:20211031T010000
END:STANDARD
BEGIN:DAYLIGHT
TZOFFSETFROM:+0100
TZOFFSETTO:+0200
TZNAME:CEST
DTSTART:20220327T010000
END:DAYLIGHT
BEGIN:STANDARD
TZOFFSETFROM:+0200
TZOFFSETTO:+0100
TZNAME:CET
DTSTART:20221030T010000
END:STANDARD
BEGIN:DAYLIGHT
TZOFFSETFROM:+0100
TZOFFSETTO:+0200
TZNAME:CEST
DTSTART:20230326T010000
END:DAYLIGHT
BEGIN:STANDARD
TZOFFSETFROM:+0200
TZOFFSETTO:+0100
TZNAME:CET
DTSTART:20231029T010000
END:STANDARD
END:VTIMEZONE
BEGIN:VEVENT
DTSTART;TZID=Europe/Berlin:20220815T190000
DTEND;TZID=Europe/Berlin:20220815T220000
DTSTAMP:20260425T024429
CREATED:20220727T151804Z
LAST-MODIFIED:20220727T151804Z
UID:10000212-1660590000-1660600800@www.jiko.cologne
SUMMARY:Tantra Stammtisch August
DESCRIPTION:  \n  \n  \n  \n  \n  \n  \nDein Stammtisch der Tantrischen Lebenskultur in Köln\n\nFühle Dich an diesem Abend eingeladen auf einen netten Plausch mit\nGleichgesinnten\, teile Deine Erfahrungen\, sei neugierig und stelle Deine Fragen\n– finde als Neuankömmling einen leichterer Zutritt in die tantrische Welt.\nWir veranstalten den Stammtisch bewusst im öffentlichen Raum um Euch auch als\nskeptische Interessierte die Sicherheit zu geben\, Euch mit uns zu treffen. So\ndenken wir insbesondere an Frauen und Männer\, die davon ausgehen oder gehört\nhaben\, dass Tantra Schmuddelkram sei …!\nDer JIKO Tantra Stammtisch findet am 15. August 2022 von 19.00 bis 22.00 Uhr im\n\,\,LATIF’s“ Frontcooking Bar Hohenzollernring 22-24 \, 50672 Köln statt.\nFreu Dich mit Komala und Jina und einer Gruppe von Herzensmenschen auf einen\nzwanglosen Abend.\nSei Dir und uns Willkommen\, bei köstlicher marokkanischer Küche.\nAnmeldung bis 13. August 2022 unter kontakt@jiko.cologne\nDamit wir in Corona Zeiten eventuelle Auflagen für Kontakte beachten können\, ist\neine Anmeldung aus organisatorischen Gründen notwendig.\nHast Du Fragen?\nJIKO Tantra : 0221/82824528 oder kontakt@jiko.cologne\nLiebe Grüße\,\nKomala + Jina
URL:https://www.jiko.cologne/veranstaltung/tantra-stammtisch-august/
LOCATION:LATIF’s“ Frontcooking Bar\, Hohenzollernring 22-24\,\, Köln\, 50672\, Deutschland
CATEGORIES:Tantra,Tantra Stammtisch
ORGANIZER;CN="JIKO Ayurveda":MAILTO:kontakt@jiko.cologne
GEO:50.9378755;6.9396744
X-APPLE-STRUCTURED-LOCATION;VALUE=URI;X-ADDRESS=LATIF’s“ Frontcooking Bar Hohenzollernring 22-24 Köln 50672 Deutschland;X-APPLE-RADIUS=500;X-TITLE=Hohenzollernring 22-24\,:geo:6.9396744,50.9378755
END:VEVENT
BEGIN:VEVENT
DTSTART;TZID=Europe/Berlin:20220516T190000
DTEND;TZID=Europe/Berlin:20220516T220000
DTSTAMP:20260425T024429
CREATED:20220430T080535Z
LAST-MODIFIED:20220430T082935Z
UID:10000271-1652727600-1652738400@www.jiko.cologne
SUMMARY:Tantra Party for Friends
DESCRIPTION:In den letzten 2 Jahren besuchten viele an Tantra Interessierte unseren JIKO Tantrastammtisch. Der Tantrastammtisch ist ein monatliches Treffen\, der sich mit kommunikativem  Austausch und wunderbaren tieferen Begegnungen füllte. Nun\, nach 2 Jahren\, möchten wir mit der großen Community und weiteren Herzensmenschen eine Kennenlernvernetzungsparty feiern.\n\nLasst Euch die „Tantra Party for Friends“ nicht entgehen\, mit großer Unterstützung von DJ Khirad und den Live Akt von „Artbeatz“ Keval und Khirad!\n\nAn diesem Abend möchten wir den Mut haben\, aus dem Herzen zu feiern\, unserer tiefsten Freude zu folgen\, um unseren kreativen Weg zu gehen...\, einfach lieben\, lachen\, tanzen!\nTanzt\, mit uns zusammen und lasst Euch diesen Abend mit wunderbaren (Tantra) Freunden nicht entgehen.\n\nDie Frontcooking Bar LATIF\,s www.Latif.de in der Kölner Innenstadt lädt mit seinen großzügigen Räumlichkeiten  bestens zu einer Kennenlernvernetzungsparty ein bei gut sortierter Getränkeauswahl  und auf der großen Aussenterasse hast Du die Möglichkeit\, deinen Magen mit köstlicher marokkanischer Küche zu füllen.\n\nDie Tantra Tanz Party  mit Live Musik und Dj finanziert sich auf freiwilliger Spendenbasis\nSpeisen und Getränke verstehen sich auf Selbstkostenpreis.\n\nDas ganze Veranstaltungsteam:\nJIKO Tantra\, Komala und Jina\n          und\nArtbeatz\, Keval und Khirad\n         sowie\n  die Latif\,s Crew\n\nfreuen sich auf einen unvergesslichen freudig tanzenden Abend mit Euch ❤️\n\n\nDatum:  16.05.2022\nEinlass:18.00 Uhr\nBeginn: 19.00 Uhr\nOrt:    „Latif\,s" Frontcooking Bar\n        Hohenzollernring 22-24\n        50672 Köln\n\nEintritt:„Der Hut geht rum“\n\nSpeisen und Getränke auf eigene Kosten\n\nFragen:      JIKO Tantra\nTel        : 0221/82824528
URL:https://www.jiko.cologne/veranstaltung/tantra-party-for-friends/
LOCATION:LATIF’s“ Frontcooking Bar\, Hohenzollernring 22-24\,\, Köln\, 50672\, Deutschland
CATEGORIES:Tantra,Tantra Stammtisch
ATTACH;FMTTYPE=image/jpeg:https://www.jiko.cologne/wp-content/uploads/tantra-Party.jpeg
ORGANIZER;CN="JIKO Ayurveda":MAILTO:kontakt@jiko.cologne
GEO:50.9378755;6.9396744
X-APPLE-STRUCTURED-LOCATION;VALUE=URI;X-ADDRESS=LATIF’s“ Frontcooking Bar Hohenzollernring 22-24 Köln 50672 Deutschland;X-APPLE-RADIUS=500;X-TITLE=Hohenzollernring 22-24\,:geo:6.9396744,50.9378755
END:VEVENT
BEGIN:VEVENT
DTSTART;TZID=Europe/Berlin:20220411T190000
DTEND;TZID=Europe/Berlin:20220411T220000
DTSTAMP:20260425T024429
CREATED:20220214T100145Z
LAST-MODIFIED:20220219T195328Z
UID:10000267-1649703600-1649714400@www.jiko.cologne
SUMMARY:Tantra Stammtisch
DESCRIPTION:Dein Stammtisch der Tantrischen Lebenskultur in Köln\n\nFühle Dich an diesem Abend eingeladen auf einen netten Plausch mit\nGleichgesinnten\, teile Deine Erfahrungen\, sei neugierig und stelle Deine Fragen.\nFinde einen Zutritt in die tantrische Welt.\n\nFühle Dich an diesem Abend eingeladen auf einen netten Plausch mit\nGleichgesinnten\, teile Deine Erfahrungen\, sei neugierig und stelle Deine Fragen\n– finde als Neuankömmling einen leichterer Zutritt in die tantrische Welt.\nWir veranstalten den Stammtisch bewusst im öffentlichen Raum um Euch auch als\nskeptische Interessierte die Sicherheit zu geben\, Euch mit uns zu treffen. So\ndenken wir insbesondere an Frauen und Männer\, die davon ausgehen oder gehört\nhaben\, dass Tantra Schmuddelkram sei …!\nDer JIKO Tantra Stammtisch findet am 11. April 2022 von 19.00 bis 22.00 Uhr im\n\,\,LATIF’s“ Frontcooking Bar Hohenzollernring 22-24 \, 50672 Köln statt.\nFreu Dich mit Komala und Georg und einer Gruppe von Herzensmenschen auf einen\nzwanglosen Abend.\nSei Dir und uns Willkommen\, bei köstlicher marokkanischer Küche.\nAnmeldung bis 9. April 2022 unter kontakt@jiko.cologne\nDamit wir in Corona Zeiten eventuelle Auflagen für Kontakte beachten können ist\neine Anmeldung aus organisatorischen Gründen notwendig.\nHast Du Fragen?\nJIKO Tantra : 0221/82824528 oder kontakt@jiko.cologne\nLiebe Grüße\,\nKomala + Jina
URL:https://www.jiko.cologne/veranstaltung/tantra-stammtisch-4/
LOCATION:LATIF’s“ Frontcooking Bar\, Hohenzollernring 22-24\,\, Köln\, 50672\, Deutschland
CATEGORIES:Tantra,Tantra Stammtisch
ATTACH;FMTTYPE=image/jpeg:https://www.jiko.cologne/wp-content/uploads/Stammtisch_April-e1645300363454.jpg
ORGANIZER;CN="JIKO Tantra":MAILTO:kontakt@jiko.cologne
GEO:50.9378755;6.9396744
X-APPLE-STRUCTURED-LOCATION;VALUE=URI;X-ADDRESS=LATIF’s“ Frontcooking Bar Hohenzollernring 22-24 Köln 50672 Deutschland;X-APPLE-RADIUS=500;X-TITLE=Hohenzollernring 22-24\,:geo:6.9396744,50.9378755
END:VEVENT
BEGIN:VEVENT
DTSTART;TZID=Europe/Berlin:20220314T190000
DTEND;TZID=Europe/Berlin:20220314T220000
DTSTAMP:20260425T024429
CREATED:20220131T113930Z
LAST-MODIFIED:20220219T195936Z
UID:10000268-1647284400-1647295200@www.jiko.cologne
SUMMARY:Tantra Stammtisch
DESCRIPTION:Dein Stammtisch der Tantrischen Lebenskultur in Köln\n\nFühle Dich an diesem Abend eingeladen auf einen netten Plausch mit\nGleichgesinnten\, teile Deine Erfahrungen\, sei neugierig und stelle Deine Fragen\n- finde als Neuankömmling einen leichterer Zutritt in die tantrische Welt.\nAm kommenden JIKO Tantrastammtisch\, den 14.03. 2022 möchte  ich unsere Runde jeweils mit einem kleinen Vortrag aus unseren Reihen beginnen. Am 14.03. starten wir mit einem frisch gebackenen Autor kurz vor der Veröffentlichung seiner ersten Erotik- und Beziehungsbücher als Überraschungsgast\, der gemeinsam mit seiner Partnerin ein „typisches“ erotisches Paargespräch beiträgt und dann ein lehrreiches Kapitel aus seinem Roman vorliest\, indem er seine Erfahrungen von Tantra  über Bondage bis Soft-BDSM in einer Lesbenrunde macht … Bitte kommt ab 19 Uhr\, um Getränke und Essen zu bestellen\, um 19.30 startet die Lesung und ab 20 Uhr können wir gemeinsam Essen und uns wie gewohnt ungezwungen unterhalten. \nWir freuen uns über einen freudigen Abend mit Dir und für Planung der Gästeliste\, über Deine  Mail – Anmeldung über  \nKontakt@jiko.cologne  \nWir veranstalten den Stammtisch bewusst im öffentlichen Raum um Euch auch als\nskeptische Interessierte die Sicherheit zu geben\, Euch mit uns zu treffen. So\ndenken wir insbesondere an Frauen und Männer\, die davon ausgehen oder gehört\nhaben\, dass Tantra Schmuddelkram sei ...!\n\nDer JIKO Tantra Stammtisch findet am 14. März 2022 von 19.00 bis 22.00 Uhr im\n\,\,LATIF's" Frontcooking Bar Hohenzollernring 22-24 \, 50672 Köln statt.\n\nFreu Dich mit Komala und Jina und einer Gruppe von Herzensmenschen auf einen\nzwanglosen Abend.\nSei Dir und uns Willkommen\, bei köstlicher marokkanischer Küche.\nAnmeldung bis 12. März 2022 unter kontakt@jiko.cologne\n\nDamit wir in Corona Zeiten eventuelle Auflagen für Kontakte beachten können ist\neine Anmeldung aus organisatorischen Gründen notwendig.\nHast Du Fragen?\nJIKO Tantra : 0221/82824528 oder kontakt@jiko.cologne\n\nLiebe Grüße\,\nKomala + Jina
URL:https://www.jiko.cologne/veranstaltung/tantra-stammtisch-3/
LOCATION:LATIF’s“ Frontcooking Bar\, Hohenzollernring 22-24\,\, Köln\, 50672\, Deutschland
CATEGORIES:Tantra,Tantra Stammtisch,Vortrag
ATTACH;FMTTYPE=image/jpeg:https://www.jiko.cologne/wp-content/uploads/teaser_stammtisch_0322-1-e1643796159437.jpg
GEO:50.9378755;6.9396744
X-APPLE-STRUCTURED-LOCATION;VALUE=URI;X-ADDRESS=LATIF’s“ Frontcooking Bar Hohenzollernring 22-24 Köln 50672 Deutschland;X-APPLE-RADIUS=500;X-TITLE=Hohenzollernring 22-24\,:geo:6.9396744,50.9378755
END:VEVENT
BEGIN:VEVENT
DTSTART;TZID=Europe/Berlin:20220207T190000
DTEND;TZID=Europe/Berlin:20220207T220000
DTSTAMP:20260425T024429
CREATED:20220112T164906Z
LAST-MODIFIED:20220202T101146Z
UID:10000261-1644260400-1644271200@www.jiko.cologne
SUMMARY:Tantra Stammtisch
DESCRIPTION:Wichtig: Ausnahmsweise findet dieser Stammtisch aus technischen Gründen nicht im Latif´s statt\, sondern im\nThe Flavour of India\nAachener 16\n50674 Köln\nwww.flavourofindia.de\n \nDein Stammtisch der Tantrischen Lebenskultur in Köln  \nFühle Dich an diesem Abend eingeladen auf einen netten Plausch mit Gleichgesinnten\, teile Deine Erfahrungen\, sei neugierig und stelle Deine Fragen. Finde einen Zutritt in die tantrische Welt.  \nFühle Dich an diesem Abend eingeladen auf einen netten Plausch mit Gleichgesinnten\, teile Deine Erfahrungen\, sei neugierig und stelle Deine Fragen – finde als Neuankömmling einen leichterer Zutritt in die tantrische Welt.  \nWir veranstalten den Stammtisch bewusst im öffentlichen Raum um Euch auch als skeptische Interessierte die Sicherheit zu geben\, Euch mit uns zu treffen. So denken wir insbesondere an Frauen und Männer\, die davon ausgehen oder gehört haben\, dass Tantra Schmuddelkram sei …!  \nDer JIKO Tantra Stammtisch findet am 07. Februar 2022 von 19.00 bis 22.00 Uhr im „LATIF’s“ Frontcooking Bar Hohenzollernring 22-24\, 50672 Köln statt. \nFreu Dich mit Komala und Jina und einer Gruppe von Herzensmenschen auf einen zwanglosen Abend. Sei Dir und uns Willkommen\, bei köstlicher marokkanischer Küche.  \nAnmeldung bis 05. Februar 2022 unter kontakt@jiko.cologne Damit wir in Corona Zeiten eventuelle Auflagen für Kontakte beachten können ist eine Anmeldung aus organisatorischen Gründen notwendig.  \nHast Du Fragen?  \nJIKO Tantra : 0221/82824528 oder kontakt@jiko.cologne  \nLiebe Grüße\, Komala
URL:https://www.jiko.cologne/veranstaltung/tantra-stammtisch/
LOCATION:LATIF’s“ Frontcooking Bar\, Hohenzollernring 22-24\,\, Köln\, 50672\, Deutschland
CATEGORIES:Tantra Stammtisch
ATTACH;FMTTYPE=image/jpeg:https://www.jiko.cologne/wp-content/uploads/teaser_stammtisch_0222-e1643795527340.jpg
ORGANIZER;CN="JIKO Tantra":MAILTO:kontakt@jiko.cologne
GEO:50.9378755;6.9396744
X-APPLE-STRUCTURED-LOCATION;VALUE=URI;X-ADDRESS=LATIF’s“ Frontcooking Bar Hohenzollernring 22-24 Köln 50672 Deutschland;X-APPLE-RADIUS=500;X-TITLE=Hohenzollernring 22-24\,:geo:6.9396744,50.9378755
END:VEVENT
BEGIN:VEVENT
DTSTART;TZID=Europe/Berlin:20211206T190000
DTEND;TZID=Europe/Berlin:20211206T220000
DTSTAMP:20260425T024429
CREATED:20211206T180028Z
LAST-MODIFIED:20240815T185906Z
UID:10000260-1638817200-1638828000@www.jiko.cologne
SUMMARY:Tantra Stammtisch Dezember 2021
DESCRIPTION:Dein Stammtisch der Tantrischen Lebenskultur in Köln. \nFühle Dich an diesem Abend eingeladen auf einen netten Plausch mit\nGleichgesinnten\, teile Deine Erfahrungen\, sei neugierig und stelle Deine Fragen\n– finde als Neuankömmling einen leichterer Zutritt in die tantrische Welt. \nWir veranstalten den Stammtisch bewusst im öffentlichen Raum um Euch auch als\nskeptische Interessierte die Sicherheit zu geben\, Euch mit uns zu treffen. So\ndenken wir insbesondere an Frauen und Männer\, die davon ausgehen oder gehört\nhaben\, dass Tantra Schmuddelkram sei …! \nDer JIKO Tantra Stammtisch findet am 6. Dezember 2021 von 19.00 bis 22.00 Uhr im\n\,\,LATIF’s“ Frontcooking Bar Hohenzollernring 22-24 \, 50672 Köln statt. \nFreu Dich mit Komala und einer Gruppe von Herzensmenschen auf einen zwanglosen\nAbend.\nSei Dir und uns Willkommen\, bei köstlicher marokkanischer Küche.\nAnmeldung bis 6. November 2021 unter kontakt@jiko.cologne \nDamit wir in Corona Zeiten eventuelle Auflagen für Kontakte beachten können ist\neine Anmeldung aus organisatorischen Gründen notwendig.\nHast Du Fragen?\nJIKO Tantra : 0221/82824528 oder kontakt@jiko.cologne \nLiebe Grüße\,\nKomala und das JIKO-Tantra Team \n 
URL:https://www.jiko.cologne/veranstaltung/tantra-stammtisch-12-21/
LOCATION:LATIF’s“ Frontcooking Bar\, Hohenzollernring 22-24\,\, Köln\, 50672\, Deutschland
CATEGORIES:Tantra Stammtisch
ATTACH;FMTTYPE=image/jpeg:https://www.jiko.cologne/wp-content/uploads/Stammtisch-12-21.jpg
ORGANIZER;CN="JIKO Tantra":MAILTO:kontakt@jiko.cologne
GEO:50.9378755;6.9396744
X-APPLE-STRUCTURED-LOCATION;VALUE=URI;X-ADDRESS=LATIF’s“ Frontcooking Bar Hohenzollernring 22-24 Köln 50672 Deutschland;X-APPLE-RADIUS=500;X-TITLE=Hohenzollernring 22-24\,:geo:6.9396744,50.9378755
END:VEVENT
BEGIN:VEVENT
DTSTART;TZID=Europe/Berlin:20211108T190000
DTEND;TZID=Europe/Berlin:20211108T220000
DTSTAMP:20260425T024429
CREATED:20220130T173231Z
LAST-MODIFIED:20240815T190504Z
UID:10000265-1636398000-1636408800@www.jiko.cologne
SUMMARY:Tantra Stammtisch November 2021
DESCRIPTION:November 2021 \nDein Stammtisch der Tantrischen Lebenskultur in Köln. \nFühle Dich an diesem Abend eingeladen auf einen netten Plausch mit Gleichgesinnten\, teile Deine Erfahrungen\, sei neugierig und stelle Deine Fragen – finde als Neuankömmling einen leichterer Zutritt in die tantrische Welt. \nWir veranstalten den Stammtisch bewusst im öffentlichen Raum um Euch auch als skeptische Interessierte die Sicherheit zu geben\, Euch mit uns zu treffen. So denken wir insbesondere an Frauen und Männer\, die davon ausgehen oder gehört haben\, dass Tantra Schmuddelkram sei …! \nDer JIKO Tantra Stammtisch findet am 8. November 2021 von 19.00 bis 22.00 Uhr im\n„LATIF“ Frontcooking Bar Hohenzollernring 22-24\, 50672 Köln statt. \nFreu Dich mit Komala und einer Gruppe von Herzensmenschen auf einen zwanglosen\nAbend.\nSei Dir und uns Willkommen\, bei köstlicher marokkanischer Küche.\nAnmeldung bis 6. November 2021 unter kontakt@jiko.cologne \nDamit wir in Corona Zeiten eventuelle Auflagen für Kontakte beachten können ist eine Anmeldung aus organisatorischen Gründen notwendig.\nHast Du Fragen?\nJIKO Tantra : 0221/82824528 oder kontakt@jiko.cologne \nLiebe Grüße\,\nKomala und das JIKO-Tantra Team
URL:https://www.jiko.cologne/veranstaltung/tantra-stammtisch-2/
LOCATION:LATIF’s“ Frontcooking Bar\, Hohenzollernring 22-24\,\, Köln\, 50672\, Deutschland
CATEGORIES:Tantra Stammtisch
ATTACH;FMTTYPE=image/jpeg:https://www.jiko.cologne/wp-content/uploads/Stammtisch-11-21.jpg
ORGANIZER;CN="JIKO Tantra":MAILTO:kontakt@jiko.cologne
GEO:50.9378755;6.9396744
X-APPLE-STRUCTURED-LOCATION;VALUE=URI;X-ADDRESS=LATIF’s“ Frontcooking Bar Hohenzollernring 22-24 Köln 50672 Deutschland;X-APPLE-RADIUS=500;X-TITLE=Hohenzollernring 22-24\,:geo:6.9396744,50.9378755
END:VEVENT
END:VCALENDAR