BEGIN:VCALENDAR
VERSION:2.0
PRODID:-//JIKO Ayurveda - ECPv6.15.14//NONSGML v1.0//EN
CALSCALE:GREGORIAN
METHOD:PUBLISH
X-WR-CALNAME:JIKO Ayurveda
X-ORIGINAL-URL:https://www.jiko.cologne
X-WR-CALDESC:Veranstaltungen für JIKO Ayurveda
REFRESH-INTERVAL;VALUE=DURATION:PT1H
X-Robots-Tag:noindex
X-PUBLISHED-TTL:PT1H
BEGIN:VTIMEZONE
TZID:Europe/Berlin
BEGIN:DAYLIGHT
TZOFFSETFROM:+0100
TZOFFSETTO:+0200
TZNAME:CEST
DTSTART:20220327T010000
END:DAYLIGHT
BEGIN:STANDARD
TZOFFSETFROM:+0200
TZOFFSETTO:+0100
TZNAME:CET
DTSTART:20221030T010000
END:STANDARD
BEGIN:DAYLIGHT
TZOFFSETFROM:+0100
TZOFFSETTO:+0200
TZNAME:CEST
DTSTART:20230326T010000
END:DAYLIGHT
BEGIN:STANDARD
TZOFFSETFROM:+0200
TZOFFSETTO:+0100
TZNAME:CET
DTSTART:20231029T010000
END:STANDARD
BEGIN:DAYLIGHT
TZOFFSETFROM:+0100
TZOFFSETTO:+0200
TZNAME:CEST
DTSTART:20240331T010000
END:DAYLIGHT
BEGIN:STANDARD
TZOFFSETFROM:+0200
TZOFFSETTO:+0100
TZNAME:CET
DTSTART:20241027T010000
END:STANDARD
END:VTIMEZONE
BEGIN:VEVENT
DTSTART;TZID=Europe/Berlin:20230723T100000
DTEND;TZID=Europe/Berlin:20230723T183000
DTSTAMP:20260425T004352
CREATED:20230516T191942Z
LAST-MODIFIED:20230516T191942Z
UID:10000285-1690106400-1690137000@www.jiko.cologne
SUMMARY:Tandava - Ein Tag von Freude und Glück
DESCRIPTION:„TANDAVA“ \n„Ein Tag von Freude und Glück“ \n„Tandava“ ist eine Form des tantrischen Tanzes. Eine tiefe Meditation des kaschmirischen Tantrismus. Im tantrischen Kontext wird die Tandava Tanz Meditation als eine Möglichkeit gesehen die Verbindung zur kosmischen Energie herzustellen und somit die spirituelle Entwicklung des Menschen zu fördern. Durch das Praktizieren von Tandava wird der Geist beruhigt und der Körper in Einklang gebracht. \nDarüber hinaus wird die spirituelle Selbstentfaltung und die Ekstase ermöglicht\, die den Praktizierenden in eine wunderbare Einheit mit dem Raum und sich selbst bringt. \nTandava ist das Hauptthema vom „Tag der Freude und des Glücks“ \nDurch spezifische Körperbewegungen\, Atemtechniken und Meditationen\,in der Gruppe und Allein\, können wir in die Tiefe der pulsierenden Energie des Tandava eintauchen\, um dann mehr und mehr mit klarem Blick die Erkenntnis zu genießen. \n„Tandava“ ist eine Form der Hingabe\, die dein Bewusstsein erweckt in Verbindung von Musik und Tanz. \nDatum: 23.07.2023 \nZeit: 10:00 – 18:30 \nPreis: 119 Euro \nOrt: Surya Yogastudio\nDarmstädterstraße 59a\n64572 Büttelborn \n https://suryayoga-rheinmain.de/ \nAnmeldung: kontakt@jiko.cologne oder unter\nhttps://suryayoga-rheinmain.de/Veranstaltungen \nFür die Mittagspause bringe gerne etwas für dich und was du teilen möchtest\, für ein gemeinsames Buffet mit! \nFragen und Beratung: JIKO Tantra\, Tel.: 0221/82824528 \nAnmeldeschluss: 20.07.2023 \nÜberweisung: paypal@jiko.cologne \n(Auf Wunsch senden wir die IBAN per Email zu)
URL:https://www.jiko.cologne/veranstaltung/tandava-ein-tag-von-freude-und-glueck/
LOCATION:Surya Yogastudio\, Darmstädterstraße 59a\, Büttelborn\, 64572\, Deutschland
CATEGORIES:Meditation,Mini-Workshop,Tantra
ORGANIZER;CN="JIKO Tantra":MAILTO:kontakt@jiko.cologne
GEO:49.8987651;8.5209878
X-APPLE-STRUCTURED-LOCATION;VALUE=URI;X-ADDRESS=Surya Yogastudio Darmstädterstraße 59a Büttelborn 64572 Deutschland;X-APPLE-RADIUS=500;X-TITLE=Darmstädterstraße 59a:geo:8.5209878,49.8987651
END:VEVENT
END:VCALENDAR